BEGIN:VCALENDAR
VERSION:2.0
PRODID:-//kyohatsu//JP
CALSCALE:GREGORIAN
BEGIN:VEVENT
DTSTART;VALUE=DATE:20260501
SUMMARY:ローズひめときらめきのジュエリーケーキ
DESCRIPTION:吉田純子/猫野ココ Gakken
UID:9784052060236@kyohatsu.lb-product.com
END:VEVENT
END:VCALENDAR
