BEGIN:VCALENDAR
VERSION:2.0
PRODID:-//kyohatsu//JP
CALSCALE:GREGORIAN
BEGIN:VEVENT
DTSTART;VALUE=DATE:20260626
SUMMARY:ほぼニートな俺が司書の先生に恋をしました　2
DESCRIPTION:福田　まきこ/伊藤　あまね KADOKAWA
UID:9784046853462@kyohatsu.lb-product.com
END:VEVENT
END:VCALENDAR
