BEGIN:VCALENDAR
VERSION:2.0
PRODID:-//kyohatsu//JP
CALSCALE:GREGORIAN
BEGIN:VEVENT
DTSTART;VALUE=DATE:20260521
SUMMARY:じけんぼ2　消えたパンダ先生
DESCRIPTION:ペク・ミョンシク/立花義裕/鷹野文子 Gakken
UID:9784052062322@kyohatsu.lb-product.com
END:VEVENT
END:VCALENDAR
