BEGIN:VCALENDAR
VERSION:2.0
PRODID:-//kyohatsu//JP
CALSCALE:GREGORIAN
BEGIN:VEVENT
DTSTART;VALUE=DATE:20260515
SUMMARY:四度目は嫌な死属性魔術師（16）
DESCRIPTION:デンスケ/ばん！ 一二三書房
UID:9784824206688@kyohatsu.lb-product.com
END:VEVENT
END:VCALENDAR
