BEGIN:VCALENDAR
VERSION:2.0
PRODID:-//kyohatsu//JP
CALSCALE:GREGORIAN
BEGIN:VEVENT
DTSTART;VALUE=DATE:20260618
SUMMARY:薬屋のひとりごと〜猫猫の後宮謎解き手帳〜 22 マスキングテープ付特装版
DESCRIPTION:日向 夏/倉田 三ノ路/しの とうこ 小学館
UID:9784099432416@kyohatsu.lb-product.com
END:VEVENT
BEGIN:VEVENT
DTSTART;VALUE=DATE:20260618
SUMMARY:薬屋のひとりごと〜猫猫の後宮謎解き手帳〜（22）
DESCRIPTION:日向 夏/倉田 三ノ路/しの とうこ 小学館
UID:9784091582294@kyohatsu.lb-product.com
END:VEVENT
END:VCALENDAR
