BEGIN:VCALENDAR
VERSION:2.0
PRODID:-//kyohatsu//JP
CALSCALE:GREGORIAN
BEGIN:VEVENT
DTSTART;VALUE=DATE:20260617
SUMMARY:ディストピア〜移住先は不貞の島でした〜3
DESCRIPTION:杉野アキユキ ファンギルド
UID:9784910617732@kyohatsu.lb-product.com
END:VEVENT
BEGIN:VEVENT
DTSTART;VALUE=DATE:20260617
SUMMARY:ニューノーマル9
DESCRIPTION:相原瑛人 ファンギルド
UID:9784910617749@kyohatsu.lb-product.com
END:VEVENT
END:VCALENDAR
