BEGIN:VCALENDAR
VERSION:2.0
PRODID:-//kyohatsu//JP
CALSCALE:GREGORIAN
BEGIN:VEVENT
DTSTART;VALUE=DATE:20260519
SUMMARY:山本五十六の野望【下】全連合艦隊出撃！
DESCRIPTION:原 俊雄 コスミック出版
UID:9784774767307@kyohatsu.lb-product.com
END:VEVENT
BEGIN:VEVENT
DTSTART;VALUE=DATE:20260519
SUMMARY:山本五十六の野望【上】ハワイ作戦を直率す！
DESCRIPTION:原 俊雄 コスミック出版
UID:9784774767291@kyohatsu.lb-product.com
END:VEVENT
END:VCALENDAR
