BEGIN:VCALENDAR
VERSION:2.0
PRODID:-//kyohatsu//JP
CALSCALE:GREGORIAN
BEGIN:VEVENT
DTSTART;VALUE=DATE:20260522
SUMMARY:災厄はどこにいる？
DESCRIPTION:らむなべ/東西 スターツ出版
UID:9784813796251@kyohatsu.lb-product.com
END:VEVENT
BEGIN:VEVENT
DTSTART;VALUE=DATE:20260522
SUMMARY:生活魔法しか使えないから諦めてたのに……あれ？私、最強だった〜5歳の転生幼女、自由気ままに異世界を生き抜く〜（仮）
DESCRIPTION:鬱沢色素/福きつね スターツ出版
UID:9784813796268@kyohatsu.lb-product.com
END:VEVENT
BEGIN:VEVENT
DTSTART;VALUE=DATE:20260522
SUMMARY:魔王を倒したおじさん冒険者、ダンジョン育てます（仮）
DESCRIPTION:白沢戌亥/柴乃櫂人 スターツ出版
UID:9784813796275@kyohatsu.lb-product.com
END:VEVENT
BEGIN:VEVENT
DTSTART;VALUE=DATE:20260522
SUMMARY:僕の職業適性には人権がなかったらしい2
DESCRIPTION:赤池宗/ゆーにっと スターツ出版
UID:9784813796282@kyohatsu.lb-product.com
END:VEVENT
END:VCALENDAR
