BEGIN:VCALENDAR
VERSION:2.0
PRODID:-//kyohatsu//JP
CALSCALE:GREGORIAN
BEGIN:VEVENT
DTSTART;VALUE=DATE:20260508
SUMMARY:魔竜伯爵の心は、無口な花嫁をひたすら溺愛中
DESCRIPTION:遠藤遼/vient 笠倉出版社
UID:9784773067149@kyohatsu.lb-product.com
END:VEVENT
END:VCALENDAR
