BEGIN:VCALENDAR
VERSION:2.0
PRODID:-//kyohatsu//JP
CALSCALE:GREGORIAN
BEGIN:VEVENT
DTSTART;VALUE=DATE:20260518
SUMMARY:悲劇のヒロインな義姉には、結婚して幸せになってもらおうと思います。
DESCRIPTION:冬瀬/カワグチ 小学館
UID:9784094611977@kyohatsu.lb-product.com
END:VEVENT
END:VCALENDAR
