BEGIN:VCALENDAR
VERSION:2.0
PRODID:-//kyohatsu//JP
CALSCALE:GREGORIAN
BEGIN:VEVENT
DTSTART;VALUE=DATE:20260525
SUMMARY:刺青とピアスと恋心
DESCRIPTION:熊六参 笠倉出版社
UID:9784773066333@kyohatsu.lb-product.com
END:VEVENT
BEGIN:VEVENT
DTSTART;VALUE=DATE:20260525
SUMMARY:じょうずに我慢できるまで
DESCRIPTION:日高あゆこ 笠倉出版社
UID:9784773066340@kyohatsu.lb-product.com
END:VEVENT
END:VCALENDAR
