BEGIN:VCALENDAR
VERSION:2.0
PRODID:-//kyohatsu//JP
CALSCALE:GREGORIAN
BEGIN:VEVENT
DTSTART;VALUE=DATE:20260529
SUMMARY:一匹狼の花嫁〜結婚当日に「貴女を愛せない」と言っていた旦那さまの様子がおかしいのですが〜3
DESCRIPTION:百迦にごう/Mikura/さばるどろ 笠倉出版社
UID:9784773066388@kyohatsu.lb-product.com
END:VEVENT
END:VCALENDAR
