BEGIN:VCALENDAR
VERSION:2.0
PRODID:-//kyohatsu//JP
CALSCALE:GREGORIAN
BEGIN:VEVENT
DTSTART;VALUE=DATE:20260526
SUMMARY:スマホを持たない君へ
DESCRIPTION:清水 晴木 PHP研究所
UID:9784569882703@kyohatsu.lb-product.com
END:VEVENT
END:VCALENDAR
