BEGIN:VCALENDAR
VERSION:2.0
PRODID:-//kyohatsu//JP
CALSCALE:GREGORIAN
BEGIN:VEVENT
DTSTART;VALUE=DATE:20260520
SUMMARY:あの日の恋（×3）が終わってくれない！3　想い出の美少女たちと再会したら、恋のレースが始まりました
DESCRIPTION:柚本悠斗/かがちさく オーバーラップ
UID:9784824016409@kyohatsu.lb-product.com
END:VEVENT
END:VCALENDAR
