BEGIN:VCALENDAR
VERSION:2.0
PRODID:-//kyohatsu//JP
CALSCALE:GREGORIAN
BEGIN:VEVENT
DTSTART;VALUE=DATE:20260520
SUMMARY:転生悪役令嬢は破滅回避のためにお義兄様と結婚することにしました 2　〜契約結婚だったはずなのに、なぜかお義兄様が笑顔で退路を塞いでくる！〜
DESCRIPTION:狭山ひびき/さくなぎた オーバーラップ
UID:9784824016485@kyohatsu.lb-product.com
END:VEVENT
BEGIN:VEVENT
DTSTART;VALUE=DATE:20260520
SUMMARY:乙女ゲームの転生モブ令嬢、原作改変で破滅予定の悪役令息を救います！2　〜私の推しメンは噛ませ犬〜（2）
DESCRIPTION:ナユタ/早瀬ジュン オーバーラップ
UID:9784824016478@kyohatsu.lb-product.com
END:VEVENT
BEGIN:VEVENT
DTSTART;VALUE=DATE:20260520
SUMMARY:侯爵家の次女は姿を隠す 7　〜家族に忘れられた元令嬢は、薬師となってスローライフを謳歌する〜
DESCRIPTION:中村 猫/コユコム オーバーラップ
UID:9784824016492@kyohatsu.lb-product.com
END:VEVENT
BEGIN:VEVENT
DTSTART;VALUE=DATE:20260520
SUMMARY:誰にも愛されなかった醜穢令嬢が幸せになるまで 6　〜嫁ぎ先は暴虐公爵と聞いていたのですが、気がつくと溺愛されていました〜
DESCRIPTION:青季ふゆ/白谷ゆう オーバーラップ
UID:9784824016089@kyohatsu.lb-product.com
END:VEVENT
END:VCALENDAR
