BEGIN:VCALENDAR
VERSION:2.0
PRODID:-//kyohatsu//JP
CALSCALE:GREGORIAN
BEGIN:VEVENT
DTSTART;VALUE=DATE:20260520
SUMMARY:都市開発スキルで楽々異世界街作り！2　〜転生廃ゲーマーによる近代都市建設がチートすぎる〜（2）
DESCRIPTION:赤池 宗/風花風花 オーバーラップ
UID:9784824016454@kyohatsu.lb-product.com
END:VEVENT
BEGIN:VEVENT
DTSTART;VALUE=DATE:20260520
SUMMARY:貞操逆転死にゲー世界で湿度高めヒロイン達を無自覚に沼らせる転生者 1
DESCRIPTION:しば犬部隊/KWKM オーバーラップ
UID:9784824016430@kyohatsu.lb-product.com
END:VEVENT
END:VCALENDAR
