BEGIN:VCALENDAR
VERSION:2.0
PRODID:-//kyohatsu//JP
CALSCALE:GREGORIAN
BEGIN:VEVENT
DTSTART;VALUE=DATE:20260625
SUMMARY:ブラックリストの食えない男 2
DESCRIPTION:美波 はるこ 集英社クリエイティブ
UID:9784420155038@kyohatsu.lb-product.com
END:VEVENT
BEGIN:VEVENT
DTSTART;VALUE=DATE:20260625
SUMMARY:今日きみの手をとってあの空の下 5
DESCRIPTION:宮川 匡代 集英社クリエイティブ
UID:9784420155021@kyohatsu.lb-product.com
END:VEVENT
END:VCALENDAR
