BEGIN:VCALENDAR
VERSION:2.0
PRODID:-//kyohatsu//JP
CALSCALE:GREGORIAN
BEGIN:VEVENT
DTSTART;VALUE=DATE:20260501
SUMMARY:野生のアルファは首輪を欲しがる
DESCRIPTION:野良風/二駒レイム MUGENUP
UID:9784434377730@kyohatsu.lb-product.com
END:VEVENT
END:VCALENDAR
