BEGIN:VCALENDAR
VERSION:2.0
PRODID:-//kyohatsu//JP
CALSCALE:GREGORIAN
BEGIN:VEVENT
DTSTART;VALUE=DATE:20260604
SUMMARY:リミテッドボーイフレンド
DESCRIPTION:春臣 MUGENUP
UID:9784434378812@kyohatsu.lb-product.com
END:VEVENT
BEGIN:VEVENT
DTSTART;VALUE=DATE:20260604
SUMMARY:俺のガチオタが攻めナンバーワンとか聞いてない
DESCRIPTION:すぎちよ MUGENUP
UID:9784434378805@kyohatsu.lb-product.com
END:VEVENT
END:VCALENDAR
