BEGIN:VCALENDAR
VERSION:2.0
PRODID:-//kyohatsu//JP
CALSCALE:GREGORIAN
BEGIN:VEVENT
DTSTART;VALUE=DATE:20260511
SUMMARY:リセット（8）
DESCRIPTION:如月ゆすら アルファポリス
UID:9784434377815@kyohatsu.lb-product.com
END:VEVENT
BEGIN:VEVENT
DTSTART;VALUE=DATE:20260511
SUMMARY:怪奇学園（3）
DESCRIPTION:ウェルザード アルファポリス
UID:9784434377822@kyohatsu.lb-product.com
END:VEVENT
BEGIN:VEVENT
DTSTART;VALUE=DATE:20260511
SUMMARY:オオカミくんはわたしだけに激甘です
DESCRIPTION:清水セイカ アルファポリス
UID:9784434377808@kyohatsu.lb-product.com
END:VEVENT
END:VCALENDAR
