BEGIN:VCALENDAR
VERSION:2.0
PRODID:-//kyohatsu//JP
CALSCALE:GREGORIAN
BEGIN:VEVENT
DTSTART;VALUE=DATE:20260520
SUMMARY:シュグデン
DESCRIPTION:グン・アヨルザナ/阿比留 美帆 春秋社
UID:9784393455159@kyohatsu.lb-product.com
END:VEVENT
END:VCALENDAR
