BEGIN:VCALENDAR
VERSION:2.0
PRODID:-//kyohatsu//JP
CALSCALE:GREGORIAN
BEGIN:VEVENT
DTSTART;VALUE=DATE:20260625
SUMMARY:ハニーレモンソーダ Another Stories
DESCRIPTION:村田 真優 集英社
UID:9784088678443@kyohatsu.lb-product.com
END:VEVENT
END:VCALENDAR
