BEGIN:VCALENDAR
VERSION:2.0
PRODID:-//kyohatsu//JP
CALSCALE:GREGORIAN
BEGIN:VEVENT
DTSTART;VALUE=DATE:20260515
SUMMARY:姉の犬から目が離せない（1）
DESCRIPTION:やまもと妹子 オーバーラップ
UID:9784824016317@kyohatsu.lb-product.com
END:VEVENT
BEGIN:VEVENT
DTSTART;VALUE=DATE:20260515
SUMMARY:私だけが頑張る片付けはもうごめんだ　家族6人魔窟部屋からの脱出コミックエッセイ（1）
DESCRIPTION:おぐらあんこ オーバーラップ
UID:9784824016324@kyohatsu.lb-product.com
END:VEVENT
BEGIN:VEVENT
DTSTART;VALUE=DATE:20260515
SUMMARY:ニシハラさんのわかりにくい恋 4
DESCRIPTION:ニシハラハコ オーバーラップ
UID:9784824016331@kyohatsu.lb-product.com
END:VEVENT
END:VCALENDAR
