BEGIN:VCALENDAR
VERSION:2.0
PRODID:-//kyohatsu//JP
CALSCALE:GREGORIAN
BEGIN:VEVENT
DTSTART;VALUE=DATE:20260513
SUMMARY:あっぷっぷーちゃん
DESCRIPTION:おおの　たろう ポプラ社
UID:9784591189412@kyohatsu.lb-product.com
END:VEVENT
END:VCALENDAR
