BEGIN:VCALENDAR
VERSION:2.0
PRODID:-//kyohatsu//JP
CALSCALE:GREGORIAN
BEGIN:VEVENT
DTSTART;VALUE=DATE:20260528
SUMMARY:デーモンアカデミー〜最強ゲーマーが最弱ゾンビに転生して無双する〜（1）
DESCRIPTION:中園まさと/三木一馬 小学館
UID:9784091542731@kyohatsu.lb-product.com
END:VEVENT
BEGIN:VEVENT
DTSTART;VALUE=DATE:20260528
SUMMARY:こい丸（2）
DESCRIPTION:公たくみ 小学館
UID:9784091542724@kyohatsu.lb-product.com
END:VEVENT
BEGIN:VEVENT
DTSTART;VALUE=DATE:20260528
SUMMARY:DOUBLE HELIX BLOSSOM（9）
DESCRIPTION:西馬ごめゆき/アサウラほか 小学館
UID:9784091542694@kyohatsu.lb-product.com
END:VEVENT
BEGIN:VEVENT
DTSTART;VALUE=DATE:20260528
SUMMARY:DTuber（1）
DESCRIPTION:謙虚なサークル/早川洋太郎ほか 小学館
UID:9784091542533@kyohatsu.lb-product.com
END:VEVENT
END:VCALENDAR
