BEGIN:VCALENDAR
VERSION:2.0
PRODID:-//kyohatsu//JP
CALSCALE:GREGORIAN
BEGIN:VEVENT
DTSTART;VALUE=DATE:20260511
SUMMARY:本の中の、ジャズの話。
DESCRIPTION:山本 善行 筑摩書房
UID:9784480440976@kyohatsu.lb-product.com
END:VEVENT
END:VCALENDAR
