BEGIN:VCALENDAR
VERSION:2.0
PRODID:-//kyohatsu//JP
CALSCALE:GREGORIAN
BEGIN:VEVENT
DTSTART;VALUE=DATE:20260509
SUMMARY:階段にパレット
DESCRIPTION:東　直子 大和書房
UID:9784479321675@kyohatsu.lb-product.com
END:VEVENT
BEGIN:VEVENT
DTSTART;VALUE=DATE:20260509
SUMMARY:ごはんを変えると人生が変わる
DESCRIPTION:姫野友美 大和書房
UID:9784479321668@kyohatsu.lb-product.com
END:VEVENT
END:VCALENDAR
