BEGIN:VCALENDAR
VERSION:2.0
PRODID:-//kyohatsu//JP
CALSCALE:GREGORIAN
BEGIN:VEVENT
DTSTART;VALUE=DATE:20260520
SUMMARY:のっぺらぼう
DESCRIPTION:桂 文我/長谷川 義史 BL出版
UID:9784776412106@kyohatsu.lb-product.com
END:VEVENT
END:VCALENDAR
