BEGIN:VCALENDAR
VERSION:2.0
PRODID:-//kyohatsu//JP
CALSCALE:GREGORIAN
BEGIN:VEVENT
DTSTART;VALUE=DATE:20260603
SUMMARY:しいくがかりは せきにんじゅうだい
DESCRIPTION:いとう みく/つちだよ しはる 金の星社
UID:9784323045016@kyohatsu.lb-product.com
END:VEVENT
END:VCALENDAR
