BEGIN:VCALENDAR
VERSION:2.0
PRODID:-//kyohatsu//JP
CALSCALE:GREGORIAN
BEGIN:VEVENT
DTSTART;VALUE=DATE:20260610
SUMMARY:貴方様が「忘れてほしい」とおっしゃいましたので〜婚約破棄された私が、従者から溺愛されるなんて〜 1
DESCRIPTION:庭師/瑪々子/宵 マチ 宝島社
UID:9784299077769@kyohatsu.lb-product.com
END:VEVENT
BEGIN:VEVENT
DTSTART;VALUE=DATE:20260624
SUMMARY:おとなしく泣き寝入りするとでも思いましたか? 3
DESCRIPTION:みあ/柏 てん 宝島社
UID:9784299078667@kyohatsu.lb-product.com
END:VEVENT
BEGIN:VEVENT
DTSTART;VALUE=DATE:20260626
SUMMARY:邪神アベレージ 平均を望んだ美少女、異世界で平均的な邪神となる
DESCRIPTION:けーすけ/北瀬野 ゆなき/柚希 きひろ 宝島社
UID:9784299079244@kyohatsu.lb-product.com
END:VEVENT
END:VCALENDAR
