BEGIN:VCALENDAR
VERSION:2.0
PRODID:-//kyohatsu//JP
CALSCALE:GREGORIAN
BEGIN:VEVENT
DTSTART;VALUE=DATE:20260515
SUMMARY:転生したらスライムだった件　囚われの暴風竜　15　（下）
DESCRIPTION:伏瀬/もりょ マイクロマガジン社
UID:9784867169629@kyohatsu.lb-product.com
END:VEVENT
END:VCALENDAR
