BEGIN:VCALENDAR
VERSION:2.0
PRODID:-//kyohatsu//JP
CALSCALE:GREGORIAN
BEGIN:VEVENT
DTSTART;VALUE=DATE:20260507
SUMMARY:エンタメ小説を書こう！
DESCRIPTION:柏田 道夫 言視舎
UID:9784865653106@kyohatsu.lb-product.com
END:VEVENT
END:VCALENDAR
