BEGIN:VCALENDAR
VERSION:2.0
PRODID:-//kyohatsu//JP
CALSCALE:GREGORIAN
BEGIN:VEVENT
DTSTART;VALUE=DATE:20260610
SUMMARY:【楽天ブックス限定先着特典】NON-FICTION (期間生産限定盤)(オリジナル缶バッジ)
DESCRIPTION:w.o.d. (株)ソニー・ミュージックレーベルズ
UID:4547366813708@kyohatsu.lb-product.com
END:VEVENT
END:VCALENDAR
