BEGIN:VCALENDAR
VERSION:2.0
PRODID:-//kyohatsu//JP
CALSCALE:GREGORIAN
BEGIN:VEVENT
DTSTART;VALUE=DATE:20260729
SUMMARY:アメノヒ　／　Marble　（dub　mixed　by　Jagabe）【アナログ盤】
DESCRIPTION:qimygo 
UID:4582725193138@kyohatsu.lb-product.com
END:VEVENT
END:VCALENDAR
