BEGIN:VCALENDAR
VERSION:2.0
PRODID:-//kyohatsu//JP
CALSCALE:GREGORIAN
BEGIN:VEVENT
DTSTART;VALUE=DATE:20260527
SUMMARY:【楽天ブックス限定先着特典】ヒトリゴト【期間生産限定盤】(オリジナルスマホサイズブロマイド)
DESCRIPTION:osage (株)ソニー・ミュージックレーベルズ
UID:4547366813425@kyohatsu.lb-product.com
END:VEVENT
END:VCALENDAR
