BEGIN:VCALENDAR
VERSION:2.0
PRODID:-//kyohatsu//JP
CALSCALE:GREGORIAN
BEGIN:VEVENT
DTSTART;VALUE=DATE:20260718
SUMMARY:いかれたBABY ＜monolog Remix＞ c/w PAPER DOLL ＜monolog Riddim Remix＞【アナログ盤】
DESCRIPTION:monolog + Ai Ichikawa GRAND GALLERY
UID:4526180759010@kyohatsu.lb-product.com
END:VEVENT
END:VCALENDAR
