BEGIN:VCALENDAR
VERSION:2.0
PRODID:-//kyohatsu//JP
CALSCALE:GREGORIAN
BEGIN:VEVENT
DTSTART;VALUE=DATE:20260601
SUMMARY:おやすみレストラン　スイーツやさん
DESCRIPTION:misato. 岩崎書店
UID:9784265832569@kyohatsu.lb-product.com
END:VEVENT
END:VCALENDAR
