BEGIN:VCALENDAR
VERSION:2.0
PRODID:-//kyohatsu//JP
CALSCALE:GREGORIAN
BEGIN:VEVENT
DTSTART;VALUE=DATE:20260522
SUMMARY:Freeze
DESCRIPTION:mic-alone DESERT AIR RECORDS
UID:4562127920754@kyohatsu.lb-product.com
END:VEVENT
END:VCALENDAR
