BEGIN:VCALENDAR
VERSION:2.0
PRODID:-//kyohatsu//JP
CALSCALE:GREGORIAN
BEGIN:VEVENT
DTSTART;VALUE=DATE:20260701
SUMMARY:CLIMAX【通常盤】
DESCRIPTION:lynch. キングレコード(株)
UID:4988003671655@kyohatsu.lb-product.com
END:VEVENT
BEGIN:VEVENT
DTSTART;VALUE=DATE:20260701
SUMMARY:CLIMAX【初回限定盤 CD＋Blu-ray】
DESCRIPTION:lynch. キングレコード(株)
UID:4988003671662@kyohatsu.lb-product.com
END:VEVENT
END:VCALENDAR
