BEGIN:VCALENDAR
VERSION:2.0
PRODID:-//kyohatsu//JP
CALSCALE:GREGORIAN
BEGIN:VEVENT
DTSTART;VALUE=DATE:20260630
SUMMARY:DEEP INSIDE OF ME
DESCRIPTION:kyanos メジャーレーベル
UID:4525118203540@kyohatsu.lb-product.com
END:VEVENT
END:VCALENDAR
