BEGIN:VCALENDAR
VERSION:2.0
PRODID:-//kyohatsu//JP
CALSCALE:GREGORIAN
BEGIN:VEVENT
DTSTART;VALUE=DATE:20260701
SUMMARY:REPSYCLE THE REPSYCLED(初回生産限定盤)【Blu-ray】
DESCRIPTION:hide with Spread Beaver ユニバーサルミュージック
UID:4988031870358@kyohatsu.lb-product.com
END:VEVENT
END:VCALENDAR
