BEGIN:VCALENDAR
VERSION:2.0
PRODID:-//kyohatsu//JP
CALSCALE:GREGORIAN
BEGIN:VEVENT
DTSTART;VALUE=DATE:20260722
SUMMARY:【楽天ブックス限定先着特典】twice upon a time【通常盤(CD only)】(A4クリアポスター)
DESCRIPTION:harmoe (株)ポニーキャニオン
UID:4524135311870@kyohatsu.lb-product.com
END:VEVENT
BEGIN:VEVENT
DTSTART;VALUE=DATE:20260722
SUMMARY:【楽天ブックス限定先着特典】twice upon a time【初回限定盤 CD＋Blu-ray＋CD】(A4クリアポスター)
DESCRIPTION:harmoe (株)ポニーキャニオン
UID:2100014900438@kyohatsu.lb-product.com
END:VEVENT
BEGIN:VEVENT
DTSTART;VALUE=DATE:20260722
SUMMARY:twice upon a time【初回限定盤 CD＋Blu-ray＋CD】
DESCRIPTION:harmoe (株)ポニーキャニオン
UID:4524135311863@kyohatsu.lb-product.com
END:VEVENT
END:VCALENDAR
