BEGIN:VCALENDAR
VERSION:2.0
PRODID:-//kyohatsu//JP
CALSCALE:GREGORIAN
BEGIN:VEVENT
DTSTART;VALUE=DATE:20260603
SUMMARY:フジテレビ系ドラマ 夫婦別姓刑事 オリジナルサウンドトラック
DESCRIPTION:fox capture plan (株)ポニーキャニオン
UID:4524135308177@kyohatsu.lb-product.com
END:VEVENT
END:VCALENDAR
