BEGIN:VCALENDAR
VERSION:2.0
PRODID:-//kyohatsu//JP
CALSCALE:GREGORIAN
BEGIN:VEVENT
DTSTART;VALUE=DATE:20260624
SUMMARY:【楽天ブックス限定先着特典】ここからの歌 (初回限定盤 CD＋Blu-ray)(缶バッジ)
DESCRIPTION:flumpool (株)A-Sketch
UID:2100014948003@kyohatsu.lb-product.com
END:VEVENT
BEGIN:VEVENT
DTSTART;VALUE=DATE:20260624
SUMMARY:ここからの歌 (初回限定盤 CD＋Blu-ray)
DESCRIPTION:flumpool (株)A-Sketch
UID:4988031874776@kyohatsu.lb-product.com
END:VEVENT
BEGIN:VEVENT
DTSTART;VALUE=DATE:20260624
SUMMARY:【楽天ブックス限定先着特典】ここからの歌(缶バッジ)
DESCRIPTION:flumpool (株)A-Sketch
UID:4988031874783@kyohatsu.lb-product.com
END:VEVENT
END:VCALENDAR
