BEGIN:VCALENDAR
VERSION:2.0
PRODID:-//kyohatsu//JP
CALSCALE:GREGORIAN
BEGIN:VEVENT
DTSTART;VALUE=DATE:20260527
SUMMARY:軌道
DESCRIPTION:fishbowl payayaam records
UID:4571350362927@kyohatsu.lb-product.com
END:VEVENT
END:VCALENDAR
