BEGIN:VCALENDAR
VERSION:2.0
PRODID:-//kyohatsu//JP
CALSCALE:GREGORIAN
BEGIN:VEVENT
DTSTART;VALUE=DATE:20260701
SUMMARY:暴走コスモグラフィー なぜこの男は、「高速」にこだわるのか
DESCRIPTION:cosMo@暴走P KADOKAWA
UID:9784046602534@kyohatsu.lb-product.com
END:VEVENT
END:VCALENDAR
