BEGIN:VCALENDAR
VERSION:2.0
PRODID:-//kyohatsu//JP
CALSCALE:GREGORIAN
BEGIN:VEVENT
DTSTART;VALUE=DATE:20260918
SUMMARY:性癖ヤバめなオトコに愛されました。3
DESCRIPTION:bov 彗星社
UID:9784434380235@kyohatsu.lb-product.com
END:VEVENT
END:VCALENDAR
