BEGIN:VCALENDAR
VERSION:2.0
PRODID:-//kyohatsu//JP
CALSCALE:GREGORIAN
BEGIN:VEVENT
DTSTART;VALUE=DATE:20260826
SUMMARY:未完成＋「△」サンカク【アナログ盤】
DESCRIPTION:bloodthirsty　butchers 
UID:4988031873434@kyohatsu.lb-product.com
END:VEVENT
BEGIN:VEVENT
DTSTART;VALUE=DATE:20260826
SUMMARY:「△」SANKAKU＋2【アナログ盤】
DESCRIPTION:bloodthirsty　butchers 
UID:4988031873441@kyohatsu.lb-product.com
END:VEVENT
END:VCALENDAR
