BEGIN:VCALENDAR
VERSION:2.0
PRODID:-//kyohatsu//JP
CALSCALE:GREGORIAN
BEGIN:VEVENT
DTSTART;VALUE=DATE:20260603
SUMMARY:LEMONADE: aespa Vol.2 (CAN Ver.)(ランダムバージョン) ＜完全数量限定生産盤＞ ［ミュージックカード］（KOR）
DESCRIPTION:aespa 
UID:8804775469879@kyohatsu.lb-product.com
END:VEVENT
END:VCALENDAR
