BEGIN:VCALENDAR
VERSION:2.0
PRODID:-//kyohatsu//JP
CALSCALE:GREGORIAN
BEGIN:VEVENT
DTSTART;VALUE=DATE:20260610
SUMMARY:【楽天ブックス限定先着特典】ミラミラ / STAR! (feat. Hatsune Miku) (初回限定盤A CD＋DVD)(缶バッジ)
DESCRIPTION:YENA ビクターエンタテインメント
UID:2100014947907@kyohatsu.lb-product.com
END:VEVENT
END:VCALENDAR
